BEGIN:VCALENDAR
VERSION:2.0
PRODID:-//Plone.org//NONSGML plone.app.event//EN
X-WR-TIMEZONE:Europe/Vienna
BEGIN:VEVENT
SUMMARY:Geschlechtsbezogene Gewalt in Wissenschaftseinrichtungen: Vortrag 
 mit Dr. Anke Lipinsky
DTSTART;TZID=Europe/Vienna:20251105T120000
DTSTAMP:20260423T211523Z
UID:937a14a7e67648d6931ee1b42334d7bb@www.akbild.ac.at
CATEGORIES:Vorträge / Veranstaltungen
CREATED:20250912T072704Z
DESCRIPTION:Die Koordinationsstelle Frauenförderung | Geschlechterforschu
 ng | Diversität lädt zum Vortrag ein mit Dr. Anke Lipinsky zum Thema Ges
 chlechtsbezogene Gewalt in Wissenschaftseinrichtungen - Erkenntnisse aus d
 em EU-Projekt UniSAFE - Gender-based violence and institutional responses.
LAST-MODIFIED:20251105T075540Z
URL:https://www.akbild.ac.at/de/universitaet/veranstaltungen/vortraege-eve
 nts/2025/geschlechtsbezogene-gewalt-in-wissenschaftseinrichtungen
END:VEVENT
BEGIN:VTIMEZONE
TZID:Europe/Vienna
X-LIC-LOCATION:Europe/Vienna
BEGIN:STANDARD
DTSTART:20251026T020000
TZNAME:CET
TZOFFSETFROM:+0200
TZOFFSETTO:+0100
END:STANDARD
END:VTIMEZONE
END:VCALENDAR
