BEGIN:VCALENDAR
VERSION:2.0
PRODID:-//Plone.org//NONSGML plone.app.event//EN
X-WR-TIMEZONE:Europe/Vienna
BEGIN:VEVENT
SUMMARY:Impulsvortrag zum Trialog Projekt
DTSTART;TZID=Europe/Vienna:20250306T100000
DTEND;TZID=Europe/Vienna:20250306T113000
DTSTAMP:20260424T073415Z
UID:a799b32e97164c7693eb5d5fce5f471a@www.akbild.ac.at
CATEGORIES:Vorträge / Veranstaltungen
CREATED:20250212T083819Z
DESCRIPTION:Teil der Trialog-Formate im März für Studierende und Mitarbe
 iter_innen der Akademie.
LAST-MODIFIED:20250219T141552Z
URL:https://www.akbild.ac.at/de/universitaet/veranstaltungen/vortraege-eve
 nts/2025/impulsvortrag-zum-trialog-projekt
END:VEVENT
BEGIN:VTIMEZONE
TZID:Europe/Vienna
X-LIC-LOCATION:Europe/Vienna
BEGIN:STANDARD
DTSTART:20241027T020000
TZNAME:CET
TZOFFSETFROM:+0200
TZOFFSETTO:+0100
END:STANDARD
END:VTIMEZONE
END:VCALENDAR
