BEGIN:VCALENDAR
VERSION:2.0
PRODID:-//Plone.org//NONSGML plone.app.event//EN
X-WR-TIMEZONE:Europe/Vienna
BEGIN:VEVENT
SUMMARY:KinderuniKunst 2025
DTSTART;VALUE=DATE:20250630
DTEND;VALUE=DATE:20250712
DTSTAMP:20260423T144853Z
UID:2ba9d1839a8840eb86bcf345e0118828@www.akbild.ac.at
CATEGORIES:Vorträge / Veranstaltungen
CREATED:20250506T092849Z
DESCRIPTION:KinderuniKunst 2025 an der Akademie der bildenden Künste Wien
  von 30. Juni bis 11. Juli 2025.
LAST-MODIFIED:20250617T133724Z
URL:https://www.akbild.ac.at/de/universitaet/veranstaltungen/vortraege-eve
 nts/2025/kinderunikunst-2025
END:VEVENT
END:VCALENDAR
