BEGIN:VCALENDAR
VERSION:2.0
PRODID:-//Plone.org//NONSGML plone.app.event//EN
X-WR-TIMEZONE:Europe/Vienna
BEGIN:VEVENT
SUMMARY:Künstler_innengespräch mit Janine Polak und Cynthia Lin
DTSTART;TZID=Europe/Vienna:20251105T170000
DTSTAMP:20260419T132259Z
UID:6657fe529f214654a9be156b8a76ec70@www.akbild.ac.at
CATEGORIES:Vorträge / Veranstaltungen
CREATED:20251104T123250Z
DESCRIPTION:Janine Polak und Cynthia Lin sind Erasmus Visiting Professors 
 vom Suny Purchase College\, State University of New York USA.
LAST-MODIFIED:20251105T101322Z
URL:https://www.akbild.ac.at/de/universitaet/veranstaltungen/vortraege-eve
 nts/2025/kuenstler_innengespraech-mit-janine-polak-und-cynthia-lin
END:VEVENT
BEGIN:VTIMEZONE
TZID:Europe/Vienna
X-LIC-LOCATION:Europe/Vienna
BEGIN:STANDARD
DTSTART:20251026T020000
TZNAME:CET
TZOFFSETFROM:+0200
TZOFFSETTO:+0100
END:STANDARD
END:VTIMEZONE
END:VCALENDAR
