BEGIN:VCALENDAR
VERSION:2.0
PRODID:-//Plone.org//NONSGML plone.app.event//EN
X-WR-TIMEZONE:Europe/Vienna
BEGIN:VEVENT
SUMMARY:Preisverleihung: Birgit-Jürgenssen-Preis 2025
DTSTART;TZID=Europe/Vienna:20250409T180000
DTEND;TZID=Europe/Vienna:20250409T200000
DTSTAMP:20260423T113342Z
UID:2aa0ef4de5ab4deba01a5be626b36a49@www.akbild.ac.at
CATEGORIES:Vorträge / Veranstaltungen
CREATED:20250408T083650Z
DESCRIPTION:Den mit 5.000 Euro dotierten Birgit-Jürgenssen-Preis 2025 erh
 ält die Künstlerin Antonia De La Luz Kašik.Die Preisverleihung findet a
 m Mittwoch\, dem 9. April 2025\, in der Aula der Akademie der bildenden K
 ünste Wien statt.
LAST-MODIFIED:20250408T084840Z
URL:https://www.akbild.ac.at/de/universitaet/veranstaltungen/vortraege-eve
 nts/2025/preisverleihung-birgit-juergenssen-preis-2025
END:VEVENT
BEGIN:VTIMEZONE
TZID:Europe/Vienna
X-LIC-LOCATION:Europe/Vienna
BEGIN:DAYLIGHT
DTSTART:20250330T030000
TZNAME:CEST
TZOFFSETFROM:+0100
TZOFFSETTO:+0200
END:DAYLIGHT
END:VTIMEZONE
END:VCALENDAR
