BEGIN:VCALENDAR
VERSION:2.0
PRODID:-//Plone.org//NONSGML plone.app.event//EN
X-WR-TIMEZONE:Europe/Vienna
BEGIN:VEVENT
SUMMARY:Smart Map of Jewish History - Geschichte digital erzählt. Projekt
 präsentation mit Aliosha Biz
DTSTART;TZID=Europe/Vienna:20251119T183000
DTSTAMP:20260423T084751Z
UID:e5df2ee891394bc59d36dd0ad54e2d85@www.akbild.ac.at
CATEGORIES:Vorträge / Veranstaltungen
CREATED:20251111T091231Z
DESCRIPTION:Smart Map of Jewish History ist ein Forschungsprojekt unter de
 r Leitung von Herbert Peter\, Institut für das künstlerische Lehramt. Ch
 ristoph Lind (Injoest)\, Herbert Peter  und Juraj Sedivy (Comenius-Univer
 sität Bratislava) stellen an diesem Abend die zwei Projekt-Teilabschnitte
  Wien und Niederösterreich vor\, geben Einblicke in die grundlegenden Ide
 en des Vorhabens und präsentieren erste digitale Umsetzungen – darunter
  auch „begehbare“ 3D-Modelle.
LAST-MODIFIED:20251111T092610Z
URL:https://www.akbild.ac.at/de/universitaet/veranstaltungen/vortraege-eve
 nts/2025/smart-map-of-jewish-history-projektpraesentation
END:VEVENT
BEGIN:VTIMEZONE
TZID:Europe/Vienna
X-LIC-LOCATION:Europe/Vienna
BEGIN:STANDARD
DTSTART:20251026T020000
TZNAME:CET
TZOFFSETFROM:+0200
TZOFFSETTO:+0100
END:STANDARD
END:VTIMEZONE
END:VCALENDAR
