BEGIN:VCALENDAR
VERSION:2.0
PRODID:-//Plone.org//NONSGML plone.app.event//EN
X-WR-TIMEZONE:Europe/Vienna
BEGIN:VEVENT
SUMMARY:Trialog - Workshop für Studierende und Lehrende der Akademie
DTSTART;TZID=Europe/Vienna:20250307T090000
DTEND;TZID=Europe/Vienna:20250307T150000
DTSTAMP:20260424T090116Z
UID:358e781766f445b5a7d796357d944697@www.akbild.ac.at
CATEGORIES:Workshops
CREATED:20250212T090655Z
DESCRIPTION:Teil der Trialog-Formate im März für Studierende und Lehrend
 e der Akademie der bildenden Künste Wien.
LAST-MODIFIED:20250219T141734Z
URL:https://www.akbild.ac.at/de/universitaet/veranstaltungen/vortraege-eve
 nts/2025/trialog-workshop-fuer-studierende-und-lehrende-der-akademie
END:VEVENT
BEGIN:VTIMEZONE
TZID:Europe/Vienna
X-LIC-LOCATION:Europe/Vienna
BEGIN:STANDARD
DTSTART:20241027T020000
TZNAME:CET
TZOFFSETFROM:+0200
TZOFFSETTO:+0100
END:STANDARD
END:VTIMEZONE
END:VCALENDAR
