BEGIN:VCALENDAR
VERSION:2.0
PRODID:-//Plone.org//NONSGML plone.app.event//EN
X-WR-TIMEZONE:Europe/Vienna
BEGIN:VEVENT
SUMMARY:Vorträge und Workshop von Dr. Debbie Bargallie
DTSTART;VALUE=DATE:20251027
DTEND;VALUE=DATE:20251030
DTSTAMP:20260424T031211Z
UID:451bcedbe86e4d299842e9fe7cf95040@www.akbild.ac.at
CATEGORIES:Vorträge / Veranstaltungen
CREATED:20251013T145859Z
DESCRIPTION:Organisiert vom International Office im Rahmen des Erasmus+-Pr
 ojekts an der Akademie der bildenden Künste Wien. Dr. Debbie Bargallie is
 t Associate Professor (Principal Research Fellow) an der Griffith Universi
 ty\, Honorary Professor an der Macquarie University sowie Adjunct Professo
 r an der Universitas Pesantren Tinggi Darul Ulum Jombang\, Indonesien.
LAST-MODIFIED:20251014T073612Z
URL:https://www.akbild.ac.at/de/universitaet/veranstaltungen/vortraege-eve
 nts/2025/vortraege-und-workshop-von-dr-debbie-bargallie
END:VEVENT
END:VCALENDAR
