BEGIN:VCALENDAR
VERSION:2.0
PRODID:-//Plone.org//NONSGML plone.app.event//EN
X-WR-TIMEZONE:Europe/Vienna
BEGIN:VEVENT
SUMMARY:Welcome Meeting für Studienanfänger_innen mit Q&A Session
DTSTART;TZID=Europe/Vienna:20250930T093000
DTEND;TZID=Europe/Vienna:20250930T133000
DTSTAMP:20260423T083445Z
UID:a2d9dfa3c02347d3af1d5a73f6abdf9d@www.akbild.ac.at
CATEGORIES:Vorträge / Veranstaltungen
CREATED:20250915T063423Z
LAST-MODIFIED:20250915T070515Z
URL:https://www.akbild.ac.at/de/universitaet/veranstaltungen/vortraege-eve
 nts/2025/welcome-meeting-fuer-studienanfaenger_innen-mit-q-a-session
END:VEVENT
BEGIN:VTIMEZONE
TZID:Europe/Vienna
X-LIC-LOCATION:Europe/Vienna
BEGIN:DAYLIGHT
DTSTART:20250330T030000
TZNAME:CEST
TZOFFSETFROM:+0100
TZOFFSETTO:+0200
END:DAYLIGHT
END:VTIMEZONE
END:VCALENDAR
