BEGIN:VCALENDAR
VERSION:2.0
PRODID:-//Plone.org//NONSGML plone.app.event//EN
X-WR-TIMEZONE:Europe/Vienna
BEGIN:VEVENT
SUMMARY:Akademie Auktion 2026
DTSTART;VALUE=DATE:20260109
DTEND;VALUE=DATE:20260124
DTSTAMP:20260423T221014Z
UID:e5e31a0b01d44683a5fa90e9190ce1d0@www.akbild.ac.at
CATEGORIES:Vorträge / Veranstaltungen
CREATED:20250910T122254Z
DESCRIPTION:Die jährliche Onlineauktion der Akademie der bildenden Künst
 e Wien findet 2026 wieder in Kooperation mit dem Dorotheum Wien statt. Die
  künstlerischen Arbeiten sind von 21.–23. Jänner 2026 im Prospekthof d
 es Atelierhauses der Akademie zu besichtigen.
LAST-MODIFIED:20260126T080654Z
URL:https://www.akbild.ac.at/de/universitaet/veranstaltungen/vortraege-eve
 nts/2026/akademie-auktion-2026
END:VEVENT
END:VCALENDAR
