BEGIN:VCALENDAR
VERSION:2.0
PRODID:-//Plone.org//NONSGML plone.app.event//EN
X-WR-TIMEZONE:Europe/Vienna
BEGIN:VEVENT
SUMMARY:Online-Informationsveranstaltung zur Ausschreibung „Austrian Art
  Alumni Award 2026“
DTSTART;TZID=Europe/Vienna:20260306T110000
DTEND;TZID=Europe/Vienna:20260306T120000
DTSTAMP:20260421T172209Z
UID:8fd61fcd59034b21950938df6858ac47@www.akbild.ac.at
CATEGORIES:Vorträge / Veranstaltungen
CREATED:20260128T141039Z
DESCRIPTION:In dieser Informationsveranstaltung werden die wichtigsten Pun
 kte der Antragstellung für den „Austrian Art Alumni Award 2026“ präs
 entiert.  Im Anschluss gibt es die Möglichkeit\, Fragen zu stellen.
LAST-MODIFIED:20260216T085916Z
URL:https://www.akbild.ac.at/de/universitaet/veranstaltungen/vortraege-eve
 nts/2026/online-informationsveranstaltung-zur-ausschreibung-austrian-art-a
 lumni-award-2026
END:VEVENT
BEGIN:VTIMEZONE
TZID:Europe/Vienna
X-LIC-LOCATION:Europe/Vienna
BEGIN:STANDARD
DTSTART:20251026T020000
TZNAME:CET
TZOFFSETFROM:+0200
TZOFFSETTO:+0100
END:STANDARD
END:VTIMEZONE
END:VCALENDAR
