BEGIN:VCALENDAR
VERSION:2.0
PRODID:-//Plone.org//NONSGML plone.app.event//EN
X-WR-TIMEZONE:Europe/Vienna
BEGIN:VEVENT
SUMMARY:Sprechen in der ersten Person: Kunst\, Geschichte und Nachleben
DTSTART;TZID=Europe/Vienna:20260519T180000
DTEND;TZID=Europe/Vienna:20260519T210000
DTSTAMP:20260421T170451Z
UID:a3a718963b404c8cb5e504dfea61faee@www.akbild.ac.at
CATEGORIES:Vorträge / Veranstaltungen
CREATED:20260421T091225Z
DESCRIPTION:Diese Gesprächsreihe nimmt die wegweisende Publikation The Yu
 goslav Art Space: Ješa Denegri in the First Person\, editiert von Branis
 lav Dimitrijević und Jelena Vesić\, als Ausgangspunkt\, um die Bedeutung
  von Ješa Denegri im historischen und zeitgenössischen Kunstkontext neu 
 zu denken. Ein Gemeinschaftsprojekt der Kontakt Sammlung und der Akademie
  der bildenden Künste Wien.
LAST-MODIFIED:20260421T092956Z
URL:https://www.akbild.ac.at/de/universitaet/veranstaltungen/vortraege-eve
 nts/2026/sprechen-in-der-ersten-person-kunst-geschichte-und-nachleben
END:VEVENT
BEGIN:VTIMEZONE
TZID:Europe/Vienna
X-LIC-LOCATION:Europe/Vienna
BEGIN:DAYLIGHT
DTSTART:20260329T030000
TZNAME:CEST
TZOFFSETFROM:+0100
TZOFFSETTO:+0200
END:DAYLIGHT
END:VTIMEZONE
END:VCALENDAR
