BEGIN:VCALENDAR
VERSION:2.0
PRODID:-//Plone.org//NONSGML plone.app.event//EN
X-WR-TIMEZONE:Europe/Vienna
BEGIN:VEVENT
SUMMARY:Transformation: reBuilding and reThinking the ‘Built Fabric’ A
 dvocating for New Common Good(s)
DTSTART;VALUE=DATE:20251204
DTEND;VALUE=DATE:20251207
DTSTAMP:20260422T152649Z
UID:6d1cff5dab1a48fc9467b36e7f1051db@www.akbild.ac.at
CATEGORIES:Konferenzen
CREATED:20251028T110239Z
DESCRIPTION:The 11th Forum Architectural Science aims to synthesise the re
 cent debates on the transformation of the existing\, the ‘built fabric
 ’. At the same time\, it poses the question of which new advocacies need
  to be formulated in order to negotiate the issues of social\, ecological 
 and aesthetic common good(s) in the context of transformation.
LAST-MODIFIED:20251128T104725Z
URL:https://www.akbild.ac.at/en/institutes/art-and-architecture/events/con
 ferences/2025/transformation-rebuilding-and-rethinking-the-built-fabric-ad
 vocating-for-new-common-good-s
END:VEVENT
END:VCALENDAR
