BEGIN:VCALENDAR
VERSION:2.0
PRODID:-//Plone.org//NONSGML plone.app.event//EN
X-WR-TIMEZONE:Europe/Vienna
BEGIN:VEVENT
SUMMARY:The art of building (art)\, imagination and fun [welcome to the pl
 easuredome]
DTSTART;TZID=Europe/Vienna:20150123T190000
DTSTAMP:20260419T164101Z
UID:e40ca0ec66732fddb1950cbe0832383e@www.akbild.ac.at
CATEGORIES:Vorträge / Veranstaltungen
CREATED:20220312T180336Z
DESCRIPTION:From thought space to outer space and back to the city. Five o
 verarching lectures exploring contemporary complexities and challenges in 
 architecture oscillating between academic rigour and rapid intuition. Lect
 ure series "The Accelerating Expanding Universe of Architecture" by Hannes
  Mayer\, Roland Rainer Chair 2014|2015 in fall 2014.
LAST-MODIFIED:20240802T103136Z
URL:https://www.akbild.ac.at/en/institutes/art-and-architecture/events/lec
 tures-events/2015/the-art-of-building-art-imagination-and-fun-welcome-to-t
 he-pleasuredome
END:VEVENT
BEGIN:VTIMEZONE
TZID:Europe/Vienna
X-LIC-LOCATION:Europe/Vienna
BEGIN:STANDARD
DTSTART:20141026T020000
TZNAME:CET
TZOFFSETFROM:+0200
TZOFFSETTO:+0100
END:STANDARD
END:VTIMEZONE
END:VCALENDAR
