BEGIN:VCALENDAR
VERSION:2.0
PRODID:-//Plone.org//NONSGML plone.app.event//EN
X-WR-TIMEZONE:Europe/Vienna
BEGIN:VEVENT
SUMMARY:Ernst A. Plischke (1903–1992): A Modernist Architect between Two
  Worlds
DTSTART;TZID=Europe/Vienna:20221207T190000
DTSTAMP:20260423T211304Z
UID:7d793723002840128e4dfc78d79fa376@www.akbild.ac.at
CATEGORIES:Vorträge / Veranstaltungen
CREATED:20221201T105913Z
DESCRIPTION:Lecture by Professor Dr.-Ing. Christoph Schnoor of the Unitec 
 Institute of Technology in Auckland\, New Zealand
LAST-MODIFIED:20240802T103132Z
URL:https://www.akbild.ac.at/en/institutes/art-and-architecture/events/lec
 tures-events/2022/ernst-a-plischke-1903-1992-a-modernist-architect-between
 -two-worlds
END:VEVENT
BEGIN:VTIMEZONE
TZID:Europe/Vienna
X-LIC-LOCATION:Europe/Vienna
BEGIN:STANDARD
DTSTART:20221030T020000
TZNAME:CET
TZOFFSETFROM:+0200
TZOFFSETTO:+0100
END:STANDARD
END:VTIMEZONE
END:VCALENDAR
