BEGIN:VCALENDAR
VERSION:2.0
PRODID:-//Plone.org//NONSGML plone.app.event//EN
X-WR-TIMEZONE:Europe/Vienna
BEGIN:VEVENT
SUMMARY:Hans Scharoun (1893–1972): Building and Shaping Friendships and 
 Communities
DTSTART;TZID=Europe/Vienna:20221125T190000
DTSTAMP:20260425T033007Z
UID:4d0a281f0ef34ea8bda530abf854cb96@www.akbild.ac.at
CATEGORIES:Vorträge / Veranstaltungen
CREATED:20221108T141651Z
DESCRIPTION:An Event at Haus Schminke. Guests: Waltraud P. Indrist\, Sandr
 a Meireis\, Ulrike Tillmann. Moderation: Angelika Schnell
LAST-MODIFIED:20240802T103132Z
URL:https://www.akbild.ac.at/en/institutes/art-and-architecture/events/lec
 tures-events/2022/hans-scharoun-1893-1972-building-and-shaping-friendships
 -and-communities
END:VEVENT
BEGIN:VTIMEZONE
TZID:Europe/Vienna
X-LIC-LOCATION:Europe/Vienna
BEGIN:STANDARD
DTSTART:20221030T020000
TZNAME:CET
TZOFFSETFROM:+0200
TZOFFSETTO:+0100
END:STANDARD
END:VTIMEZONE
END:VCALENDAR
