BEGIN:VCALENDAR
VERSION:2.0
PRODID:-//Plone.org//NONSGML plone.app.event//EN
X-WR-TIMEZONE:Europe/Vienna
BEGIN:VEVENT
SUMMARY:Ignored Technology
DTSTART;VALUE=DATE:20220919
DTEND;VALUE=DATE:20220924
DTSTAMP:20260423T084303Z
UID:11d3b2afd81f49f480f55461401a433c@www.akbild.ac.at
CATEGORIES:Vorträge / Veranstaltungen
CREATED:20220912T084400Z
DESCRIPTION:A Gestured and Spoken Knowledge Exchange Format. This is a wee
 k-long cross border collaboration between the Academy of Fine Arts\, Vienn
 a - AKBILD and the Academy of Arts\, Architecture and Design\, Prague - UM
 PRUM for 30 students\, (15 from AKBILD and 15 from UMPRUM).
LAST-MODIFIED:20240802T103132Z
URL:https://www.akbild.ac.at/en/institutes/art-and-architecture/events/lec
 tures-events/2022/ignored-technology
END:VEVENT
END:VCALENDAR
