BEGIN:VCALENDAR
VERSION:2.0
PRODID:-//Plone.org//NONSGML plone.app.event//EN
X-WR-TIMEZONE:Europe/Vienna
BEGIN:VEVENT
SUMMARY:Textiles\, Technology and Design 3000 years ago
DTSTART;TZID=Europe/Vienna:20231127T190000
DTSTAMP:20260422T003728Z
UID:77d5952f89434cf5be7db68c51d34d45@www.akbild.ac.at
CATEGORIES:Vorträge / Veranstaltungen
CREATED:20230918T111127Z
DESCRIPTION:Lecture by Karina Grömer within the Lecture Series at the Ins
 titute for Art and Architecture\, WS 2023/24Curated by Michelle Howard\, A
 dam Hudec\, Veronika Miskovicova and Eva Sommeregger in collaboration with
  the Academy of Arts\, Architecture and Design in Prague.
LAST-MODIFIED:20240802T103132Z
URL:https://www.akbild.ac.at/en/institutes/art-and-architecture/events/lec
 tures-events/2023/yeah-but-is-it-technology-yes-of-course/copy3_of_the-arc
 -design-and-construction
END:VEVENT
BEGIN:VTIMEZONE
TZID:Europe/Vienna
X-LIC-LOCATION:Europe/Vienna
BEGIN:STANDARD
DTSTART:20231029T020000
TZNAME:CET
TZOFFSETFROM:+0200
TZOFFSETTO:+0100
END:STANDARD
END:VTIMEZONE
END:VCALENDAR
