BEGIN:VCALENDAR
VERSION:2.0
PRODID:-//Plone.org//NONSGML plone.app.event//EN
X-WR-TIMEZONE:Europe/Vienna
BEGIN:VEVENT
SUMMARY:Deconstructing Modernity
DTSTART;TZID=Europe/Vienna:20240603T190000
DTSTAMP:20260423T154359Z
UID:762be2c2c3164ca1b56ff962247de9bd@www.akbild.ac.at
CATEGORIES:Vorträge / Veranstaltungen
CREATED:20240529T141446Z
DESCRIPTION:Theo Deutinger/TD architects\, Salzburg in dialogue with Tom S
 choonjans / Rotor\, Brussels\nModerated / curated by Anastassia Smirnova-B
 erlin and Alexander Sverdlov within the framework of the OFF GRID Dialogue
 s lecture series at IKA
LAST-MODIFIED:20240802T103132Z
URL:https://www.akbild.ac.at/en/institutes/art-and-architecture/events/lec
 tures-events/2024/deconstructing-modernity
END:VEVENT
BEGIN:VTIMEZONE
TZID:Europe/Vienna
X-LIC-LOCATION:Europe/Vienna
BEGIN:DAYLIGHT
DTSTART:20240331T030000
TZNAME:CEST
TZOFFSETFROM:+0100
TZOFFSETTO:+0200
END:DAYLIGHT
END:VTIMEZONE
END:VCALENDAR
