BEGIN:VCALENDAR
VERSION:2.0
PRODID:-//Plone.org//NONSGML plone.app.event//EN
X-WR-TIMEZONE:Europe/Vienna
BEGIN:VEVENT
SUMMARY:Engaging the collective
DTSTART;TZID=Europe/Vienna:20241209T190000
DTSTAMP:20260419T120231Z
UID:e6b12f0e8c6b447c9be8490204e73497@www.akbild.ac.at
CATEGORIES:Vorträge / Veranstaltungen
CREATED:20241201T134400Z
DESCRIPTION:Lecture by Vinu Daniel from Wallmakers within the framework of
  the IKA Lecture Series FORM SPACE ENVIRONMENT – Towards New Correalisms
 \, curated by Hannes Stiefel.
LAST-MODIFIED:20241201T134454Z
URL:https://www.akbild.ac.at/en/institutes/art-and-architecture/events/lec
 tures-events/2024/form-space-environment-towards-new-correalisms/engaging-
 the-collective
END:VEVENT
BEGIN:VTIMEZONE
TZID:Europe/Vienna
X-LIC-LOCATION:Europe/Vienna
BEGIN:STANDARD
DTSTART:20241027T020000
TZNAME:CET
TZOFFSETFROM:+0200
TZOFFSETTO:+0100
END:STANDARD
END:VTIMEZONE
END:VCALENDAR
