BEGIN:VCALENDAR
VERSION:2.0
PRODID:-//Plone.org//NONSGML plone.app.event//EN
X-WR-TIMEZONE:Europe/Vienna
BEGIN:VEVENT
SUMMARY:Guided tours with the scenography class
DTSTART;TZID=Europe/Vienna:20240619T160000
DTSTAMP:20260419T125043Z
UID:c03c77bf73754e7e883679a92ca3768e@www.akbild.ac.at
CREATED:20240527T121203Z
DESCRIPTION:A tour of the “House of the Republic” with the scenography
  class of the Academy of Fine Arts Vienna as part of the Wiener Festwochen
 .
LAST-MODIFIED:20240802T103132Z
URL:https://www.akbild.ac.at/en/institutes/art-and-architecture/events/lec
 tures-events/2024/free-republic-of-vienna-wiener-festwochen/copy_of_guided
 -tours-with-the-scenography-class
END:VEVENT
BEGIN:VTIMEZONE
TZID:Europe/Vienna
X-LIC-LOCATION:Europe/Vienna
BEGIN:DAYLIGHT
DTSTART:20240331T030000
TZNAME:CEST
TZOFFSETFROM:+0100
TZOFFSETTO:+0200
END:DAYLIGHT
END:VTIMEZONE
END:VCALENDAR
