BEGIN:VCALENDAR
VERSION:2.0
PRODID:-//Plone.org//NONSGML plone.app.event//EN
X-WR-TIMEZONE:Europe/Vienna
BEGIN:VEVENT
SUMMARY:Re(Generation) - Lecture by Thomas Daniell
DTSTART;TZID=Europe/Vienna:20240613T180000
DTSTAMP:20260424T145823Z
UID:180623c2d53045adb14f472272740bb9@www.akbild.ac.at
CATEGORIES:Vorträge / Veranstaltungen
CREATED:20240613T074809Z
DESCRIPTION:A lecture by Thomas Daniell\, Professor of Architectural Histo
 ry\, Theory\, and Criticism at Kyoto University\, Japan. Organized by the 
 Institute for Artand Architecture.
LAST-MODIFIED:20240802T103132Z
URL:https://www.akbild.ac.at/en/institutes/art-and-architecture/events/lec
 tures-events/2024/re-generation-lecture-by-thomas-daniell
END:VEVENT
BEGIN:VTIMEZONE
TZID:Europe/Vienna
X-LIC-LOCATION:Europe/Vienna
BEGIN:DAYLIGHT
DTSTART:20240331T030000
TZNAME:CEST
TZOFFSETFROM:+0100
TZOFFSETTO:+0200
END:DAYLIGHT
END:VTIMEZONE
END:VCALENDAR
