BEGIN:VCALENDAR
VERSION:2.0
PRODID:-//Plone.org//NONSGML plone.app.event//EN
X-WR-TIMEZONE:Europe/Vienna
BEGIN:VEVENT
SUMMARY:Margareta Kern: Thursday War
DTSTART;TZID=Europe/Vienna:20220531T173000
DTEND;TZID=Europe/Vienna:20220531T190000
DTSTAMP:20260421T135527Z
UID:5bd2ad17d7674e798f4b9f6f3e3a2938@www.akbild.ac.at
CATEGORIES:Vorträge / Veranstaltungen
CREATED:20220510T092414Z
DESCRIPTION:This part of the program is not open to the public.\nIn the co
 ntext of the Spring Curatorial Program 2022: Art Geographies.
LAST-MODIFIED:20240802T103144Z
URL:https://www.akbild.ac.at/en/institutes/art-theory-and-cultural-studies
 /events/conferences/2022/the-spring-curatorial-program/lectures-by-margare
 ta-kern-and-brandon-labelle
END:VEVENT
BEGIN:VTIMEZONE
TZID:Europe/Vienna
X-LIC-LOCATION:Europe/Vienna
BEGIN:DAYLIGHT
DTSTART:20220327T030000
TZNAME:CEST
TZOFFSETFROM:+0100
TZOFFSETTO:+0200
END:DAYLIGHT
END:VTIMEZONE
END:VCALENDAR
