BEGIN:VCALENDAR
VERSION:2.0
PRODID:-//Plone.org//NONSGML plone.app.event//EN
X-WR-TIMEZONE:Europe/Vienna
BEGIN:VEVENT
SUMMARY:Reweaving our world(s) anew: decolonial art geographies as spaces 
 of “refuturing”
DTSTART;TZID=Europe/Vienna:20220523T180000
DTEND;TZID=Europe/Vienna:20220523T203000
DTSTAMP:20260419T164155Z
UID:fb0d4ef5f03c4c9e840757a23ccab3d1@www.akbild.ac.at
CATEGORIES:Vorträge / Veranstaltungen
CREATED:20220510T073129Z
DESCRIPTION:In the context of the Spring Curatorial Program 2022: Art Geog
 raphies.
LAST-MODIFIED:20240802T103144Z
URL:https://www.akbild.ac.at/en/institutes/art-theory-and-cultural-studies
 /events/conferences/2022/the-spring-curatorial-program/madina-tlostanova-r
 eweaving-our-world-s-anew-decolonial-art-geographies-as-spaces-of-refuturi
 ng
END:VEVENT
BEGIN:VTIMEZONE
TZID:Europe/Vienna
X-LIC-LOCATION:Europe/Vienna
BEGIN:DAYLIGHT
DTSTART:20220327T030000
TZNAME:CEST
TZOFFSETFROM:+0100
TZOFFSETTO:+0200
END:DAYLIGHT
END:VTIMEZONE
END:VCALENDAR
