BEGIN:VCALENDAR
VERSION:2.0
PRODID:-//Plone.org//NONSGML plone.app.event//EN
X-WR-TIMEZONE:Europe/Vienna
BEGIN:VEVENT
SUMMARY:Oleksiy Radynski: [en]Geographies and Infrastructures of Post-Soci
 alism in the context of War[/en]
DTSTART;TZID=Europe/Vienna:20220530T193000
DTEND;TZID=Europe/Vienna:20220530T210000
DTSTAMP:20260424T114304Z
UID:41752ea78c254bfbb820216ca893c1c5@www.akbild.ac.at
CATEGORIES:Vorträge / Veranstaltungen
CREATED:20220511T140900Z
DESCRIPTION:Dieser Programmpunkt ist nicht öffentlich zugänglich.\nOleks
 iy Radynski in conversation with Aleksei Borisionok and Ruth Jenerbekova. 
 In the context of the Spring Curatorial Program 2022: Art Geographies.
LAST-MODIFIED:20240802T103144Z
URL:https://www.akbild.ac.at/en/institutes/art-theory-and-cultural-studies
 /events/conferences/2022/the-spring-curatorial-program/oleksiy-radynski-en
 -geographies-and-infrastructures-of-post-socialism-in-the-context-of-war-e
 n
END:VEVENT
BEGIN:VTIMEZONE
TZID:Europe/Vienna
X-LIC-LOCATION:Europe/Vienna
BEGIN:DAYLIGHT
DTSTART:20220327T030000
TZNAME:CEST
TZOFFSETFROM:+0100
TZOFFSETTO:+0200
END:DAYLIGHT
END:VTIMEZONE
END:VCALENDAR
