BEGIN:VCALENDAR
VERSION:2.0
PRODID:-//Plone.org//NONSGML plone.app.event//EN
X-WR-TIMEZONE:Europe/Vienna
BEGIN:VEVENT
SUMMARY:Slavs and Tatars: [em]Red-Black Thread[/em]
DTSTART;TZID=Europe/Vienna:20220601T183000
DTEND;TZID=Europe/Vienna:20220601T203000
DTSTAMP:20260426T022836Z
UID:a55a90b5f7904bc3a177618088da38fa@www.akbild.ac.at
CATEGORIES:Vorträge / Veranstaltungen
CREATED:20220510T093113Z
DESCRIPTION:In the context of the Spring Curatorial Program 2022: Art Geog
 raphies.
LAST-MODIFIED:20240802T103144Z
URL:https://www.akbild.ac.at/en/institutes/art-theory-and-cultural-studies
 /events/conferences/2022/the-spring-curatorial-program/transliterative-tea
 se
END:VEVENT
BEGIN:VTIMEZONE
TZID:Europe/Vienna
X-LIC-LOCATION:Europe/Vienna
BEGIN:DAYLIGHT
DTSTART:20220327T030000
TZNAME:CEST
TZOFFSETFROM:+0100
TZOFFSETTO:+0200
END:DAYLIGHT
END:VTIMEZONE
END:VCALENDAR
