BEGIN:VCALENDAR
VERSION:2.0
PRODID:-//Plone.org//NONSGML plone.app.event//EN
X-WR-TIMEZONE:Europe/Vienna
BEGIN:VEVENT
SUMMARY:TOSQUELLES transversal
DTSTART;VALUE=DATE:20251003
DTEND;VALUE=DATE:20251005
DTSTAMP:20260421T153627Z
UID:ba56139765ae4e8886b52454964cca91@www.akbild.ac.at
CATEGORIES:Vorträge / Veranstaltungen
CREATED:20250723T093848Z
DESCRIPTION:International conference organised by the Academy of Fine Arts
  Vienna in cooperation with Kunsthochschule für Medien Cologne and eipcp 
 - European Institute for Progressive Cultural Policies.
LAST-MODIFIED:20250723T093929Z
URL:https://www.akbild.ac.at/en/institutes/art-theory-and-cultural-studies
 /events/conferences/2025/tosquelles-transversal
END:VEVENT
END:VCALENDAR
