BEGIN:VCALENDAR
VERSION:2.0
PRODID:-//Plone.org//NONSGML plone.app.event//EN
X-WR-TIMEZONE:Europe/Vienna
BEGIN:VEVENT
SUMMARY:Cathrin-Pichler-Prize 2018: Belinda Kazeem-Kamiński
DTSTART;VALUE=DATE:20181107
DTEND;VALUE=DATE:20181118
DTSTAMP:20260423T230314Z
UID:4db109d26ba04d7ebdf7a40b9639cc65@www.akbild.ac.at
CATEGORIES:Ausstellungen
CREATED:20221223T114413Z
DESCRIPTION:The Cathrin Pichler Prize\, sponsored by the City of Vienna wi
 th 2\,500 Euros\, is awarded to the artist and author Belinda Kazeem-Kami
 ński for her work The Letter. The opening will be the occasion to present
  the first publication of the Cathrin Pichler Archive The Curator As...\, 
 edited by Felicitas Thun-Hohenstein and Sabine Priglinger\, Schlebrügge V
 erlag 2018.
LAST-MODIFIED:20240802T103147Z
URL:https://www.akbild.ac.at/en/institutes/art-theory-and-cultural-studies
 /events/exhibitions/cathrin-pichler-prize-2018-belinda-kazeem-kaminski
END:VEVENT
END:VCALENDAR
