BEGIN:VCALENDAR
VERSION:2.0
PRODID:-//Plone.org//NONSGML plone.app.event//EN
X-WR-TIMEZONE:Europe/Vienna
BEGIN:VEVENT
SUMMARY:Textiles: Open Letter | A Haptic Space: Praxis and Discourse
DTSTART;VALUE=DATE:20121214
DTEND;VALUE=DATE:20121215
DTSTAMP:20260425T024226Z
UID:ae2496cd6f88289b81fec26e5637790c@www.akbild.ac.at
CREATED:20220312T180546Z
DESCRIPTION:A project by Rike Frank (Berlin/Leipzig)\, Grant Watson (Londo
 n)\,\n \n Sabeth Buchmann (Vienna)\, and Leire Vergara (Bilbao). In collab
 oration with Bulegoa z/b\, Bilbao\; Academy of Fine Arts\, Vienna\; INIVA\
 , London\; Galerie für Zeitgenössische Kunst and mzin\, Leipzig\; Allian
 z Kulturstiftung\, and Kulturstiftung des Freistaates Sachsen.
LAST-MODIFIED:20240802T103144Z
URL:https://www.akbild.ac.at/en/institutes/art-theory-and-cultural-studies
 /events/lectures-events/2012/textiles-open-letter-a-haptic-space-praxis-an
 d-discourse
END:VEVENT
END:VCALENDAR
