BEGIN:VCALENDAR
VERSION:2.0
PRODID:-//Plone.org//NONSGML plone.app.event//EN
X-WR-TIMEZONE:Europe/Vienna
BEGIN:VEVENT
SUMMARY:Incursion
DTSTART;VALUE=DATE:20151019
DTEND;VALUE=DATE:20151024
DTSTAMP:20260425T162327Z
UID:82a82ddc476bd7150e0048bd334c9808@www.akbild.ac.at
CATEGORIES:Vorträge / Veranstaltungen
CREATED:20220312T180553Z
DESCRIPTION:Opening hours: daily 10am – open end\n \n The doctoral progr
 am PhD-in-Practice is a will facilitate an open workspace in the Aula of t
 he Academy of Fine Arts Vienna.
LAST-MODIFIED:20240802T103140Z
URL:https://www.akbild.ac.at/en/institutes/art-theory-and-cultural-studies
 /events/lectures-events/2015/incursion
END:VEVENT
END:VCALENDAR
