BEGIN:VCALENDAR
VERSION:2.0
PRODID:-//Plone.org//NONSGML plone.app.event//EN
X-WR-TIMEZONE:Europe/Vienna
BEGIN:VEVENT
SUMMARY:Putting Rehearsals to the Test. Practices of Rehearsal in Fine Art
 s\, Film\, Theater\, Theory\, and Politics
DTSTART;TZID=Europe/Vienna:20170111T183000
DTSTAMP:20260424T073615Z
UID:8831efb3e6d3e19e37e9aeefe59812ab@www.akbild.ac.at
CATEGORIES:Vorträge / Veranstaltungen
CREATED:20220312T180600Z
DESCRIPTION:The editors Sabeth Buchmann\, Ilse Lafer\, Constanze Ruhm (Eds
 .) will be present and talk to Christa Blümlinger\, Professor of Cinema a
 nd Audiovisual studies at the UFR Arts\, Philosophie\, Esthétique at Univ
 ersité Paris 8 Vincennes-Saint-Denis.
LAST-MODIFIED:20240802T103140Z
URL:https://www.akbild.ac.at/en/institutes/art-theory-and-cultural-studies
 /events/lectures-events/2017/putting-rehearsals-to-the-test.-practices-of-
 rehearsal-in-fine-arts-film-theater-theory-and-politics
END:VEVENT
BEGIN:VTIMEZONE
TZID:Europe/Vienna
X-LIC-LOCATION:Europe/Vienna
BEGIN:STANDARD
DTSTART:20161030T020000
TZNAME:CET
TZOFFSETFROM:+0200
TZOFFSETTO:+0100
END:STANDARD
END:VTIMEZONE
END:VCALENDAR
