BEGIN:VCALENDAR
VERSION:2.0
PRODID:-//Plone.org//NONSGML plone.app.event//EN
X-WR-TIMEZONE:Europe/Vienna
BEGIN:VEVENT
SUMMARY:Book presentation: "Big Critical Energy"
DTSTART;TZID=Europe/Vienna:20211118T170000
DTEND;TZID=Europe/Vienna:20211118T190000
DTSTAMP:20260423T084436Z
UID:6feb883b5b97c9a8306c0a62bece42cc@www.akbild.ac.at
CATEGORIES:Vorträge / Veranstaltungen
CREATED:20220312T180700Z
DESCRIPTION:Book presentation\n \n \n with authors and readers of the MA C
 ritical Studies.\n\n\n For the event\, a "2G plus" rule applies: vaccinate
 d or recovered plus additionally PCR tested.
LAST-MODIFIED:20240802T103140Z
URL:https://www.akbild.ac.at/en/institutes/art-theory-and-cultural-studies
 /events/lectures-events/2021/big-critical-energy
END:VEVENT
BEGIN:VTIMEZONE
TZID:Europe/Vienna
X-LIC-LOCATION:Europe/Vienna
BEGIN:STANDARD
DTSTART:20211031T020000
TZNAME:CET
TZOFFSETFROM:+0200
TZOFFSETTO:+0100
END:STANDARD
END:VTIMEZONE
END:VCALENDAR
