BEGIN:VCALENDAR
VERSION:2.0
PRODID:-//Plone.org//NONSGML plone.app.event//EN
X-WR-TIMEZONE:Europe/Vienna
BEGIN:VEVENT
SUMMARY:FANON Yesterday\, Today
DTSTART;TZID=Europe/Vienna:20221103T183000
DTSTAMP:20260423T205102Z
UID:e286d437813c49d5a9496d9a26d063e0@www.akbild.ac.at
CATEGORIES:Vorträge / Veranstaltungen
CREATED:20221010T144509Z
DESCRIPTION:Film screening and conversation with Hassane Mezine\, Samir Ga
 ndesha and Glen Coulthard.Hassane Mezine\, FANON Yesterday\, Today\, Alger
 ia/France\, 2019\, 87 min\, English subtitles.
LAST-MODIFIED:20240802T103140Z
URL:https://www.akbild.ac.at/en/institutes/art-theory-and-cultural-studies
 /events/lectures-events/2022/fanon-yesterday-today
END:VEVENT
BEGIN:VTIMEZONE
TZID:Europe/Vienna
X-LIC-LOCATION:Europe/Vienna
BEGIN:STANDARD
DTSTART:20221030T020000
TZNAME:CET
TZOFFSETFROM:+0200
TZOFFSETTO:+0100
END:STANDARD
END:VTIMEZONE
END:VCALENDAR
