BEGIN:VCALENDAR
VERSION:2.0
PRODID:-//Plone.org//NONSGML plone.app.event//EN
X-WR-TIMEZONE:Europe/Vienna
BEGIN:VEVENT
SUMMARY:Fantastic Wednesday
DTSTART;TZID=Europe/Vienna:20221214T190000
DTSTAMP:20260424T035007Z
UID:605a15fa93cd40548ea4960a90200b2e@www.akbild.ac.at
CATEGORIES:Vorträge / Veranstaltungen
CREATED:20221209T102423Z
DESCRIPTION:The PhD-in-Practice &amp\; Depot Arts and Discussion invite yo
 u to Fantastic Wednesday with Berhanu Ashagrie Deribew.Unreasonable Colle
 ctivity // Auf Englisch
LAST-MODIFIED:20240802T103140Z
URL:https://www.akbild.ac.at/en/institutes/art-theory-and-cultural-studies
 /events/lectures-events/2022/fantastic-wednesday
END:VEVENT
BEGIN:VTIMEZONE
TZID:Europe/Vienna
X-LIC-LOCATION:Europe/Vienna
BEGIN:STANDARD
DTSTART:20221030T020000
TZNAME:CET
TZOFFSETFROM:+0200
TZOFFSETTO:+0100
END:STANDARD
END:VTIMEZONE
END:VCALENDAR
