BEGIN:VCALENDAR
VERSION:2.0
PRODID:-//Plone.org//NONSGML plone.app.event//EN
X-WR-TIMEZONE:Europe/Vienna
BEGIN:VEVENT
SUMMARY:Conceptual labour and object immersion. Philosophy in aesthetics 
 – aesthetics in philosophy
DTSTART;TZID=Europe/Vienna:20240404T090000
DTEND;TZID=Europe/Vienna:20240406T100000
DTSTAMP:20260422T193358Z
UID:0feccb3438a84b7d9b0895cea5eb1b79@www.akbild.ac.at
CATEGORIES:Konferenzen
CREATED:20240319T084215Z
DESCRIPTION:The research workshop invites 10 international guests to discu
 ss recent questions concerning the reciprocal permeation of aesthetic and 
 philosophical theory and practice. As part of the FWF research project Med
 iated Autonomy. Ideal and Reality of Aesthetic Practice.
LAST-MODIFIED:20240802T103136Z
URL:https://www.akbild.ac.at/en/institutes/art-theory-and-cultural-studies
 /events/lectures-events/2024/conceptual-labour-and-object-immersion-philos
 ophy-in-aesthetics-aesthetics-in-philosophy
END:VEVENT
BEGIN:VTIMEZONE
TZID:Europe/Vienna
X-LIC-LOCATION:Europe/Vienna
BEGIN:DAYLIGHT
DTSTART:20240331T030000
TZNAME:CEST
TZOFFSETFROM:+0100
TZOFFSETTO:+0200
END:DAYLIGHT
END:VTIMEZONE
END:VCALENDAR
