BEGIN:VCALENDAR
VERSION:2.0
PRODID:-//Plone.org//NONSGML plone.app.event//EN
X-WR-TIMEZONE:Europe/Vienna
BEGIN:VEVENT
SUMMARY:Die Subalternen: Ursprung und Entwicklung eines postkolonialen Sch
 lüsselbegriffs
DTSTART;TZID=Europe/Vienna:20240416T190000
DTSTAMP:20260424T015634Z
UID:3715f9e237ec4eb590f05a1d41441d82@www.akbild.ac.at
CATEGORIES:Vorträge / Veranstaltungen
CREATED:20240310T181302Z
DESCRIPTION:Lecture and book presentation and discussion with Ingo Pohn-La
 uggas. Organized by Jenst Kastner\, Institute for Art Theory and Cultural 
 Studies\, Academy of Fine Arts Vienna.
LAST-MODIFIED:20240802T103136Z
URL:https://www.akbild.ac.at/en/institutes/art-theory-and-cultural-studies
 /events/lectures-events/2024/die-subalternen-ursprung-und-entwicklung-eine
 s-postkolonialen-schlusselbegriffs
END:VEVENT
BEGIN:VTIMEZONE
TZID:Europe/Vienna
X-LIC-LOCATION:Europe/Vienna
BEGIN:DAYLIGHT
DTSTART:20240331T030000
TZNAME:CEST
TZOFFSETFROM:+0100
TZOFFSETTO:+0200
END:DAYLIGHT
END:VTIMEZONE
END:VCALENDAR
