BEGIN:VCALENDAR
VERSION:2.0
PRODID:-//Plone.org//NONSGML plone.app.event//EN
X-WR-TIMEZONE:Europe/Vienna
BEGIN:VEVENT
SUMMARY:Looting and Totality. Launch event for Diversity of Aesthetics vol
 .3.
DTSTART;TZID=Europe/Vienna:20240313T180000
DTSTAMP:20260425T150431Z
UID:9dcbd2666d394be7b312adb53e063185@www.akbild.ac.at
CATEGORIES:Vorträge / Veranstaltungen
CREATED:20240307T130539Z
DESCRIPTION:Book presentation of Looting\, 3rd volume by Diversity of Aest
 hetics editorial project with Marina Vishmidt and Jose Rosales.
LAST-MODIFIED:20240802T103136Z
URL:https://www.akbild.ac.at/en/institutes/art-theory-and-cultural-studies
 /events/lectures-events/2024/looting-and-totality-launch-event-for-diversi
 ty-of-aesthetics-vol-3
END:VEVENT
BEGIN:VTIMEZONE
TZID:Europe/Vienna
X-LIC-LOCATION:Europe/Vienna
BEGIN:STANDARD
DTSTART:20231029T020000
TZNAME:CET
TZOFFSETFROM:+0200
TZOFFSETTO:+0100
END:STANDARD
END:VTIMEZONE
END:VCALENDAR
