BEGIN:VCALENDAR
VERSION:2.0
PRODID:-//Plone.org//NONSGML plone.app.event//EN
X-WR-TIMEZONE:Europe/Vienna
BEGIN:VEVENT
SUMMARY:OFF_screen with Guillaume Cailleau
DTSTART;TZID=Europe/Vienna:20240613T180000
DTEND;TZID=Europe/Vienna:20240613T200000
DTSTAMP:20260424T114212Z
UID:a5b983949ace4b629e925923345a5d32@www.akbild.ac.at
CATEGORIES:Vorträge / Veranstaltungen
CREATED:20240523T130246Z
DESCRIPTION:Zoom Webinar von Off_screen (Karø Goldt und Michaela Schwentn
 er) in begleitender Kooperation mit der Akademie der bildenden Künste Wie
 n / Univ.-Prof. Dr. Sabeth Buchmann IKW
LAST-MODIFIED:20240802T103136Z
URL:https://www.akbild.ac.at/en/institutes/art-theory-and-cultural-studies
 /events/lectures-events/2024/off_screen-with-guillaume-cailleau
END:VEVENT
BEGIN:VTIMEZONE
TZID:Europe/Vienna
X-LIC-LOCATION:Europe/Vienna
BEGIN:DAYLIGHT
DTSTART:20240331T030000
TZNAME:CEST
TZOFFSETFROM:+0100
TZOFFSETTO:+0200
END:DAYLIGHT
END:VTIMEZONE
END:VCALENDAR
