BEGIN:VCALENDAR
VERSION:2.0
PRODID:-//Plone.org//NONSGML plone.app.event//EN
X-WR-TIMEZONE:Europe/Vienna
BEGIN:VEVENT
SUMMARY:Diaspora in Speculation
DTSTART;TZID=Europe/Vienna:20251127T183000
DTSTAMP:20260421T153632Z
UID:3a37d6007e07413b835183d2f952cc59@www.akbild.ac.at
CATEGORIES:Vorträge / Veranstaltungen
CREATED:20251105T122702Z
DESCRIPTION:A lecture by Regina Kanyu Wang\, organized by Noit Banai\, Pro
 fessor for Diaspora Aesthetics\, Institute for Art Theory and Cultural Stu
 dies\, and Lydia Nsiah.
LAST-MODIFIED:20260306T122659Z
URL:https://www.akbild.ac.at/en/institutes/art-theory-and-cultural-studies
 /events/lectures-events/2025-1/diaspora-in-speculation
END:VEVENT
BEGIN:VTIMEZONE
TZID:Europe/Vienna
X-LIC-LOCATION:Europe/Vienna
BEGIN:STANDARD
DTSTART:20251026T020000
TZNAME:CET
TZOFFSETFROM:+0200
TZOFFSETTO:+0100
END:STANDARD
END:VTIMEZONE
END:VCALENDAR
