BEGIN:VCALENDAR
VERSION:2.0
PRODID:-//Plone.org//NONSGML plone.app.event//EN
X-WR-TIMEZONE:Europe/Vienna
BEGIN:VEVENT
SUMMARY:Disconnective Cartographies\, Connective Memories
DTSTART;TZID=Europe/Vienna:20251211T180000
DTSTAMP:20260421T153729Z
UID:1180ee0c3dbb40f687ff8c77df1c70b9@www.akbild.ac.at
CATEGORIES:Vorträge / Veranstaltungen
CREATED:20251124T102049Z
DESCRIPTION:A lecture by John Njenga Karugia\, organized by Noit Banai\, P
 rofessor of Diaspora Aesthtics\, Art Theory and Cultural Studies.
LAST-MODIFIED:20260306T122659Z
URL:https://www.akbild.ac.at/en/institutes/art-theory-and-cultural-studies
 /events/lectures-events/2025-1/disconnective-cartographies-connective-memo
 ries
END:VEVENT
BEGIN:VTIMEZONE
TZID:Europe/Vienna
X-LIC-LOCATION:Europe/Vienna
BEGIN:STANDARD
DTSTART:20251026T020000
TZNAME:CET
TZOFFSETFROM:+0200
TZOFFSETTO:+0100
END:STANDARD
END:VTIMEZONE
END:VCALENDAR
