BEGIN:VCALENDAR
VERSION:2.0
PRODID:-//Plone.org//NONSGML plone.app.event//EN
X-WR-TIMEZONE:Europe/Vienna
BEGIN:VEVENT
SUMMARY:Frontier\, Border and No Man's Land
DTSTART;TZID=Europe/Vienna:20250526T183000
DTSTAMP:20260425T121602Z
UID:4f8667cce4864f8eaadcaa6c7282ca17@www.akbild.ac.at
CATEGORIES:Vorträge / Veranstaltungen
CREATED:20250321T090426Z
DESCRIPTION:A Lecture Performance by Lee Kai Chung\, organized Noit Banai\
 , Professor of Diaspora Aesthetics\, Institute for Art Theory and Cultural
  Studies\, as part of "Diaspora Kitchen"
LAST-MODIFIED:20250717T081430Z
URL:https://www.akbild.ac.at/en/institutes/art-theory-and-cultural-studies
 /events/lectures-events/2025-1/frontier-border-and-no-mans-land
END:VEVENT
BEGIN:VTIMEZONE
TZID:Europe/Vienna
X-LIC-LOCATION:Europe/Vienna
BEGIN:DAYLIGHT
DTSTART:20250330T030000
TZNAME:CEST
TZOFFSETFROM:+0100
TZOFFSETTO:+0200
END:DAYLIGHT
END:VTIMEZONE
END:VCALENDAR
