BEGIN:VCALENDAR
VERSION:2.0
PRODID:-//Plone.org//NONSGML plone.app.event//EN
X-WR-TIMEZONE:Europe/Vienna
BEGIN:VEVENT
SUMMARY:Human Animals. Bodily Dressage and Institutional Critique.
DTSTART;TZID=Europe/Vienna:20250403T160000
DTEND;TZID=Europe/Vienna:20250403T173000
DTSTAMP:20260425T104607Z
UID:7e5579c6955b498e92aa3ed1e64c7873@www.akbild.ac.at
CATEGORIES:Vorträge / Veranstaltungen
CREATED:20250318T131946Z
DESCRIPTION:The panel discussion takes place in the context of the Gender 
 Studies II lecture course\, “’The Right to Sex’: Practising Feminist
  Criticism and Aesthetising its Body Politics” (led by Dr. Lisa Moravec)
 .
LAST-MODIFIED:20250325T074926Z
URL:https://www.akbild.ac.at/en/institutes/art-theory-and-cultural-studies
 /events/lectures-events/2025-1/humans-and-animals-bodily-dressage-and-inst
 itutional-critique
END:VEVENT
BEGIN:VTIMEZONE
TZID:Europe/Vienna
X-LIC-LOCATION:Europe/Vienna
BEGIN:DAYLIGHT
DTSTART:20250330T030000
TZNAME:CEST
TZOFFSETFROM:+0100
TZOFFSETTO:+0200
END:DAYLIGHT
END:VTIMEZONE
END:VCALENDAR
