BEGIN:VCALENDAR
VERSION:2.0
PRODID:-//Plone.org//NONSGML plone.app.event//EN
X-WR-TIMEZONE:Europe/Vienna
BEGIN:VEVENT
SUMMARY:Timeless Others: Reframing African Art in China
DTSTART;TZID=Europe/Vienna:20250603T150000
DTSTAMP:20260421T153631Z
UID:968924c400df4e1692ab12d0a8ab68d4@www.akbild.ac.at
CATEGORIES:Vorträge / Veranstaltungen
CREATED:20250526T072728Z
DESCRIPTION:Lecture by Musquiqui Chihying\, organized by Univ.-Prof. Mag. 
 Christian Kravagna\, Postcolonial Studies (IKW)\, as part of The Global Li
 ves of African Art.
LAST-MODIFIED:20250717T081428Z
URL:https://www.akbild.ac.at/en/institutes/art-theory-and-cultural-studies
 /events/lectures-events/2025-1/timeless-others-reframing-african-art-in-ch
 ina
END:VEVENT
BEGIN:VTIMEZONE
TZID:Europe/Vienna
X-LIC-LOCATION:Europe/Vienna
BEGIN:DAYLIGHT
DTSTART:20250330T030000
TZNAME:CEST
TZOFFSETFROM:+0100
TZOFFSETTO:+0200
END:DAYLIGHT
END:VTIMEZONE
END:VCALENDAR
