BEGIN:VCALENDAR
VERSION:2.0
PRODID:-//Plone.org//NONSGML plone.app.event//EN
X-WR-TIMEZONE:Europe/Vienna
BEGIN:VEVENT
SUMMARY:Trans Looking
DTSTART;TZID=Europe/Vienna:20250624T180000
DTSTAMP:20260421T170823Z
UID:178be9a9fae2474b9b192f6f442ed47b@www.akbild.ac.at
CATEGORIES:Vorträge / Veranstaltungen
CREATED:20250602T075433Z
DESCRIPTION:An event by the Institute for Art Theory and Cultural Studies\
 , Transgender Studies.
LAST-MODIFIED:20250717T081429Z
URL:https://www.akbild.ac.at/en/institutes/art-theory-and-cultural-studies
 /events/lectures-events/2025-1/trans-looking
END:VEVENT
BEGIN:VTIMEZONE
TZID:Europe/Vienna
X-LIC-LOCATION:Europe/Vienna
BEGIN:DAYLIGHT
DTSTART:20250330T030000
TZNAME:CEST
TZOFFSETFROM:+0100
TZOFFSETTO:+0200
END:DAYLIGHT
END:VTIMEZONE
END:VCALENDAR
