BEGIN:VCALENDAR
VERSION:2.0
PRODID:-//Plone.org//NONSGML plone.app.event//EN
X-WR-TIMEZONE:Europe/Vienna
BEGIN:VEVENT
SUMMARY:For Freedom: Fight against Corruption. Students and State Violence
  in Serbia
DTSTART;TZID=Europe/Vienna:20260413T183000
DTSTAMP:20260422T071634Z
UID:d772c24c14054572b7f166c23afc67fc@www.akbild.ac.at
CATEGORIES:Vorträge / Veranstaltungen
CREATED:20260312T132837Z
DESCRIPTION:Lecture by Olja Triaška Stefanović  organized by the Instit
 ute for Art Theory and Cultural Studies. The talk is part of the Vienna-w
 ide initiative Days of Attention: Rethinking Politics - Student Protests i
 n Serbia: https://zeitgeschichte.univie.ac.at/en/news-events/days-of-atte
 ntion-student-protests-in-serbia/
LAST-MODIFIED:20260312T134542Z
URL:https://www.akbild.ac.at/en/institutes/art-theory-and-cultural-studies
 /events/lectures-events/2026/for-freedom-fight-against-corruption-students
 -and-state-violence-in-serbia
END:VEVENT
BEGIN:VTIMEZONE
TZID:Europe/Vienna
X-LIC-LOCATION:Europe/Vienna
BEGIN:DAYLIGHT
DTSTART:20260329T030000
TZNAME:CEST
TZOFFSETFROM:+0100
TZOFFSETTO:+0200
END:DAYLIGHT
END:VTIMEZONE
END:VCALENDAR
