BEGIN:VCALENDAR
VERSION:2.0
PRODID:-//Plone.org//NONSGML plone.app.event//EN
X-WR-TIMEZONE:Europe/Vienna
BEGIN:VEVENT
SUMMARY:Presentation and discussion of the book [em]Philosophie und Rassis
 mus. Debatten und Kontroversen (2025)[/em]
DTSTART;TZID=Europe/Vienna:20260330T180000
DTEND;TZID=Europe/Vienna:20260330T200000
DTSTAMP:20260421T153940Z
UID:b80effdcf1534827a40646532c21fa34@www.akbild.ac.at
CATEGORIES:Vorträge / Veranstaltungen
CREATED:20260309T103448Z
DESCRIPTION:In cooperation with Polylog: Journal for Intercultural Philos
 ophy\, organized by the Institute for Art Theory and Cultural Studies.
LAST-MODIFIED:20260309T103513Z
URL:https://www.akbild.ac.at/en/institutes/art-theory-and-cultural-studies
 /events/lectures-events/2026/presentation-and-discussion-of-the-book-em-ph
 ilosophie-und-rassismus-debatten-und-kontroversen-2025-em
END:VEVENT
BEGIN:VTIMEZONE
TZID:Europe/Vienna
X-LIC-LOCATION:Europe/Vienna
BEGIN:DAYLIGHT
DTSTART:20260329T030000
TZNAME:CEST
TZOFFSETFROM:+0100
TZOFFSETTO:+0200
END:DAYLIGHT
END:VTIMEZONE
END:VCALENDAR
