BEGIN:VCALENDAR
VERSION:2.0
PRODID:-//Plone.org//NONSGML plone.app.event//EN
X-WR-TIMEZONE:Europe/Vienna
BEGIN:VEVENT
SUMMARY:Female Artists and New Material
DTSTART;VALUE=DATE:20210228
DTEND;VALUE=DATE:20211015
DTSTAMP:20260424T054657Z
UID:d7ff297bb20f8c083716b5d648de89c2@www.akbild.ac.at
CATEGORIES:Ausstellungen
CREATED:20220312T175531Z
DESCRIPTION:Based on current restoration projects in the department of Con
 servation-Restoration of Modern and Contemporary Art\, the students have d
 eveloped an ongoing presentation that deals with the works of various arti
 sts who worked closely with new materials and plastics\, including Kiki Ko
 gelnik\, Birgit Jürgensen and Mária Bartuszová\, Renate Bertlmann\, Dor
 othée Golz.\nThe beginning of the ongoing exhibition will open on October
  14  th  \, 2021 and will be open to the public every subsequent Thursday 
 from 3pm until 6pm.
LAST-MODIFIED:20240802T103109Z
URL:https://www.akbild.ac.at/en/institutes/conservation-restoration/events
 /ausstellungen/2021/kuenstlerinnen-und-neue-materialien
END:VEVENT
END:VCALENDAR
