BEGIN:VCALENDAR
VERSION:2.0
PRODID:-//Plone.org//NONSGML plone.app.event//EN
X-WR-TIMEZONE:Europe/Vienna
BEGIN:VEVENT
SUMMARY:Preserving Liveliness
DTSTART;TZID=Europe/Vienna:20221216T090000
DTEND;TZID=Europe/Vienna:20221216T180000
DTSTAMP:20260423T113044Z
UID:14549c98e4bb4735a2ec5cf9d1334fb0@www.akbild.ac.at
CATEGORIES:Konferenzen
CREATED:20221118T080450Z
DESCRIPTION:Conference on the Handling of Processual\, Organic and Living 
 Materials in Contemporary Art.Concept: Carolin Bohlmann (IKR) and Katja S
 terflinger (INTK)\, a cooperation of the Studio of Modern and Contemporary
  Art of the Institute for Conservation-Restoration\, and the Institute for
  Science and Technology in Art of the Academy of Fine Arts Vienna. Join al
 so online: http://tinyurl.com/zoom-to-BAC
LAST-MODIFIED:20240802T103112Z
URL:https://www.akbild.ac.at/en/institutes/conservation-restoration/events
 /conferences/2022/preserving-liveliness
END:VEVENT
BEGIN:VTIMEZONE
TZID:Europe/Vienna
X-LIC-LOCATION:Europe/Vienna
BEGIN:STANDARD
DTSTART:20221030T020000
TZNAME:CET
TZOFFSETFROM:+0200
TZOFFSETTO:+0100
END:STANDARD
END:VTIMEZONE
END:VCALENDAR
