BEGIN:VCALENDAR
VERSION:2.0
PRODID:-//Plone.org//NONSGML plone.app.event//EN
X-WR-TIMEZONE:Europe/Vienna
BEGIN:VEVENT
SUMMARY:Student colloquium of restorers in training (RiA) – VDR\, ÖRV &
  IKR
DTSTART;VALUE=DATE:20240518
DTEND;VALUE=DATE:20240520
DTSTAMP:20260421T231153Z
UID:659b01b45c5441b58fceae442326a977@www.akbild.ac.at
CATEGORIES:Konferenzen
CREATED:20240513T102644Z
DESCRIPTION:On May 18/19\, 2024\, the annual student colloquium of the IG 
 Restaurator_Innen in Ausbildung (RiA) of the VDR and ÖRV will take place 
 in cooperation with the IKR.
LAST-MODIFIED:20241219T142514Z
URL:https://www.akbild.ac.at/en/institutes/conservation-restoration/events
 /conferences/2024/student-colloquium-of-restorers-in-training-ria-vdr-orv-
 ikr
END:VEVENT
END:VCALENDAR
