BEGIN:VCALENDAR
VERSION:2.0
PRODID:-//Plone.org//NONSGML plone.app.event//EN
X-WR-TIMEZONE:Europe/Vienna
BEGIN:VEVENT
SUMMARY:The Third Dimension - 3rd European Student Conference on Objects C
 onservation
DTSTART;VALUE=DATE:20120504
DTEND;VALUE=DATE:20120506
DTSTAMP:20260424T135222Z
UID:8b15080a695d5d9f84f0209262c8b498@www.akbild.ac.at
CATEGORIES:Konferenzen
CREATED:20220312T175555Z
LAST-MODIFIED:20240802T103112Z
URL:https://www.akbild.ac.at/en/institutes/conservation-restoration/events
 /lectures-events/2012/the-third-dimension-3rd-european-student-conference-
 on-objects-conservation
END:VEVENT
END:VCALENDAR
